BEGIN:VCALENDAR
VERSION:2.0
PRODID:-//eventon.com NONSGML v1.0//EN
CALSCALE:GREGORIAN
METHOD:PUBLISH
BEGIN:VEVENT
UID:69e5b7294f623
DTSTAMP:20260420T051833Z
DTSTART:20230225T173000Z
DTEND:20230225T190000Z
LOCATION:
SUMMARY:PIL DE JULIEN FOURNET
DESCRIPTION:PIL\,  réalisé par Julien Fournet\,  projeté au cinéma l’
 ABC de Toulouse Synopsis: Pil\,  une petite orpheline\,  vit dans les rues 
 de la cité de Roc-en-Brume. Avec ses trois fouines apprivoisées\,  elle s
 urvit en allant chiper de la nourriture dans le château du sinistre régen
 t Tristain\,  qui usurpe le trône. Un[..]\nhttps://www.lasalledacote.occit
 anie-films.fr/events/pil-de-julien-fournet-4/
URL:https://www.lasalledacote.occitanie-films.fr/events/pil-de-julien-fournet-4/
END:VEVENT
END:VCALENDAR