BEGIN:VCALENDAR
VERSION:2.0
PRODID:-//eventon.com NONSGML v1.0//EN
CALSCALE:GREGORIAN
METHOD:PUBLISH
BEGIN:VEVENT
UID:69e4f65c8b50f
DTSTAMP:20260419T153556Z
DTSTART:20230108T110000Z
DTEND:20230108T130000Z
LOCATION:
SUMMARY:AVANT-PREMIÈRE PATTIE ET LA COLÈRE DE POSÉIDON
DESCRIPTION:Projection en avant-première de Pattie et la colère de Poséi
 don\,  le dernier film d’animation de David Alaux\,  produit par les stud
 ios TAT. Séance en présence du réalisateur David Alaux\,  le dimanche 8 
 janvier à 11h\,  au cinéma Gaumont Odysseum de Montpellier. Synopsis :  
 La vie s’écoule paisiblement à Yolcos\,  belle[..]\nhttps://www.lasal
 ledacote.occitanie-films.fr/events/avant-premiere-pattie-et-la-colere-de-po
 seidon-4/
URL:https://www.lasalledacote.occitanie-films.fr/events/avant-premiere-pattie-et-la-colere-de-poseidon-4/
END:VEVENT
END:VCALENDAR