BEGIN:VCALENDAR
VERSION:2.0
PRODID:-//eventon.com NONSGML v1.0//EN
CALSCALE:GREGORIAN
METHOD:PUBLISH
BEGIN:VEVENT
UID:69e8aa6af142a
DTSTAMP:20260422T110058Z
DTSTART:20221119T160000Z
DTEND:20221119T153000Z
LOCATION:
SUMMARY:Projection d'un épisode de la série Déclics
DESCRIPTION:Dans le cadre du Festival Les Grands Yeux  à La Halle Tropism
 e. Projection d'un épisode de la série Déclics du studio Mad Films le s
 amedi 19 novembre 2022 à 16h en présence du réalisateur Pierre Lergenmü
 ller. Déclics est une série d'animation documentaire produite par le stud
 io montpelliérain Mad Films. Une série de[..]\nhttps://www.lasalledacote
 .occitanie-films.fr/events/projection-dun-episode-de-la-serie-declics/
URL:https://www.lasalledacote.occitanie-films.fr/events/projection-dun-episode-de-la-serie-declics/
END:VEVENT
END:VCALENDAR