BEGIN:VCALENDAR
VERSION:2.0
PRODID:-//eventon.com NONSGML v1.0//EN
CALSCALE:GREGORIAN
METHOD:PUBLISH
BEGIN:VEVENT
UID:69e61352ee868
DTSTAMP:20260420T115146Z
DTSTART:20220630T170000Z
DTEND:20220630T215000Z
LOCATION:
SUMMARY:FERTILE de Clara Petazzoni
DESCRIPTION:Projection du court-métrage Fertile de Clara Petazzoni; en p
 résence de Mathieu Amalric\nhttps://www.lasalledacote.occitanie-films.fr/e
 vents/fertile-de-clara-petazzoni/
URL:https://www.lasalledacote.occitanie-films.fr/events/fertile-de-clara-petazzoni/
END:VEVENT
END:VCALENDAR