BEGIN:VCALENDAR
VERSION:2.0
PRODID:-//eventon.com NONSGML v1.0//EN
CALSCALE:GREGORIAN
METHOD:PUBLISH
BEGIN:VEVENT
UID:69e9ed7b0ee9f
DTSTAMP:20260423T095923Z
DTSTART:20220608T173000Z
DTEND:20220608T215000Z
LOCATION:
SUMMARY:CinÃ©dance : Je m'appelle Bagdag
DESCRIPTION:Tout l'Ã©tÃ©\,  CinÃ©philae vous propose le projet Cinedance en
  avant-sÃ©ance. "Venez fÃªter l'Ã©tÃ© et les films musicaux avec Just Dance
  dans votre cinÃ©ma." Just Dance\,  dÃ©veloppÃ© par Ubisoft Paris depuisÂ Â
  2014\,  est un jeu de danse familial et ludique. IlÂ Â permet dâ€™apprendr
 e des chorÃ©graphies grÃ¢ce Ã  desÂ avatars dansants sur votre Ã©cran de[..
 ]\nhttps://www.lasalledacote.occitanie-films.fr/events/cinedance-je-mappell
 e-bagdag/
URL:https://www.lasalledacote.occitanie-films.fr/events/cinedance-je-mappelle-bagdag/
END:VEVENT
END:VCALENDAR