BEGIN:VCALENDAR
VERSION:2.0
PRODID:-//eventon.com NONSGML v1.0//EN
CALSCALE:GREGORIAN
METHOD:PUBLISH
BEGIN:VEVENT
UID:69e585fbc5a0b
DTSTAMP:20260420T014843Z
DTSTART:20220706T180000Z
DTEND:20220706T215000Z
LOCATION:
SUMMARY:Hommage à Ennio Morricone
DESCRIPTION:Mini-concert en hommage à Ennio Morricone\,  précédant une p
 rojection du documentaire Ennio de Giuseppe Tornatore &nbsp; Synopsis: A l
 ’âge de 8 ans\,  Ennio Morricone rêve de devenir médecin. Mais son pè
 re décide qu’il sera trompettiste\,  comme lui. Du conservatoire de musi
 que à l’Oscar du meilleur compositeur\,  l’itinéraire d’un des plus
  grands[..]\nhttps://www.lasalledacote.occitanie-films.fr/events/hommage-a-
 ennio-morricone/
URL:https://www.lasalledacote.occitanie-films.fr/events/hommage-a-ennio-morricone/
END:VEVENT
END:VCALENDAR