BEGIN:VCALENDAR
VERSION:2.0
PRODID:-//eventon.com NONSGML v1.0//EN
CALSCALE:GREGORIAN
METHOD:PUBLISH
BEGIN:VEVENT
UID:69ea5526d5bd2
DTSTAMP:20260423T172142Z
DTSTART:20220829T210000Z
DTEND:20220829T001700Z
LOCATION:
SUMMARY:Projection Plein air - En libertÃ©
DESCRIPTION:Le 29 aoÃ»t\,  Projection en plein air Ã  La Bastide BesplasÂ d
 eÂ En libertÃ©Â de Pierre SalvadoriÂ Ã  21h &nbsp; Synopsis : Yvonne jeune 
 inspectrice de police\,  dÃ©couvre que son mari\,  le capitaine Santi\,  hÃ
 ©ros local tombÃ© au combat\,  nâ€™Ã©tait pas le flic courageux et intÃ¨gre
  quâ€™elle croyait mais un vÃ©ritable ripou. DÃ©terminÃ©e Ã [..]\nhttps://w
 ww.lasalledacote.occitanie-films.fr/events/2277/
URL:https://www.lasalledacote.occitanie-films.fr/events/2277/
END:VEVENT
END:VCALENDAR