BEGIN:VCALENDAR
VERSION:2.0
PRODID:-//eventon.com NONSGML v1.0//EN
CALSCALE:GREGORIAN
METHOD:PUBLISH
BEGIN:VEVENT
UID:69eba58b67297
DTSTAMP:20260424T171659Z
DTSTART:20220822T210000Z
DTEND:20220822T235100Z
LOCATION:
SUMMARY:Ciné-concert en plein air - Le Caméraman
DESCRIPTION:Le 22 août\,  Ciné-concert en plein air à Carla-Bayle de Le
  Caméraman de Buster Keaton à 21h &nbsp; Synopsis :A New-York\,  les dé
 buts de Shannon comme reporter d'une compagnie d'actualités cinématograph
 iques sont désastreux. Encouragé par Sally\,  la secrétaire de la compag
 nie\,  il s'impose en tournant une émeute dans le quartier chinois. Ensuit
 e\, [..]\nhttps://www.lasalledacote.occitanie-films.fr/events/cine-concert-
 en-plein-air-le-cameraman/
URL:https://www.lasalledacote.occitanie-films.fr/events/cine-concert-en-plein-air-le-cameraman/
END:VEVENT
END:VCALENDAR