BEGIN:VCALENDAR
VERSION:2.0
PRODID:-//eventon.com NONSGML v1.0//EN
CALSCALE:GREGORIAN
METHOD:PUBLISH
BEGIN:VEVENT
UID:69e6e74677df5
DTSTAMP:20260421T025606Z
DTSTART:20220803T220400Z
DTEND:20220803T230400Z
LOCATION:
SUMMARY:Projection Plein air - Odyssée de Pi
DESCRIPTION:Le 3 août\,  projection en plein air à Seix de L'odyssée de
  Pi de Ang Lee à 22h &nbsp; Synopsis : Après avoir décidé de vendre l
 eur zoo en Inde et de déménager au Canada\,  Santosh et Gita Patel monten
 t à bord d'un cargo avec leurs fils et quelques animaux. La tragédie frap
 pe[..]\nhttps://www.lasalledacote.occitanie-films.fr/events/projection-plei
 n-air-odyssee-de-pi/
URL:https://www.lasalledacote.occitanie-films.fr/events/projection-plein-air-odyssee-de-pi/
END:VEVENT
END:VCALENDAR