BEGIN:VCALENDAR
VERSION:2.0
PRODID:-//eventon.com NONSGML v1.0//EN
CALSCALE:GREGORIAN
METHOD:PUBLISH
BEGIN:VEVENT
UID:69e78c5de6c12
DTSTAMP:20260421T144029Z
DTSTART:20220512T180000Z
DTEND:20220512T215000Z
LOCATION:
SUMMARY:Serre-moi fort de Mathieu Amalric\,  en présence de Claudine Galéa
DESCRIPTION:Projection du film Serre-moi fort\,  réalisé par Mathieu Ama
 lric\,  en présence de Claudine Galéa - écrivaine et dramaturge\,  auteu
 re de la pièce Je reviens de loin\,  dont le film est une adaptation. Cet
 te séance a lieu au cinéma Régent de Saint-Gaudens\,  le 12 mai 2022. " 
 S'intéressant aux relations entre imaginaire et[..]\nhttps://www.lasalleda
 cote.occitanie-films.fr/events/serre-moi-fort-de-mathieu-amalric-en-presenc
 e-de-claudine-galea/
URL:https://www.lasalledacote.occitanie-films.fr/events/serre-moi-fort-de-mathieu-amalric-en-presence-de-claudine-galea/
END:VEVENT
END:VCALENDAR